BEGIN:VCALENDAR
VERSION:2.0
PRODID:-//eventon.com NONSGML v1.0//EN
CALSCALE:GREGORIAN
METHOD:PUBLISH
BEGIN:VEVENT
UID:69e731e1b6d69
DTSTAMP:20260421T081425Z
DTSTART:20250721
DTEND:20250722
LOCATION:Musick Studios 411 E 2nd St. Owensboro\,  KY 42303
SUMMARY:Registration Week
DESCRIPTION:Registration for the 2025-2026 season!\nhttps://musickstudios.c
 om/events/registration-week/
URL:https://musickstudios.com/events/registration-week/
END:VEVENT
END:VCALENDAR